BEGIN:VCALENDAR
VERSION:2.0
PRODID:-//The Bobby Byrne Show - ECPv6.15.13.1//NONSGML v1.0//EN
CALSCALE:GREGORIAN
METHOD:PUBLISH
X-ORIGINAL-URL:https://bobbybyrne.com
X-WR-CALDESC:Events for The Bobby Byrne Show
REFRESH-INTERVAL;VALUE=DURATION:PT1H
X-Robots-Tag:noindex
X-PUBLISHED-TTL:PT1H
BEGIN:VTIMEZONE
TZID:UTC
BEGIN:STANDARD
TZOFFSETFROM:+0000
TZOFFSETTO:+0000
TZNAME:UTC
DTSTART:20150101T000000
END:STANDARD
END:VTIMEZONE
BEGIN:VEVENT
DTSTART;TZID=UTC:20160803T190000
DTEND;TZID=UTC:20160803T190000
DTSTAMP:20260424T113717
CREATED:20160509T201343Z
LAST-MODIFIED:20160509T201343Z
UID:2413-1470250800-1470250800@bobbybyrne.com
SUMMARY:Trader's Cove Marina Park\, Brick - 7pm - Free Outdoor Concert
DESCRIPTION:TRADER’S COVE MARINA PARK\, Mantoloking Rd\, Brick (7pm);\nFree Outdoor Concert Sponsored By Brick Recreation Dept.\n(Rain Date: Aug 4)
URL:https://bobbybyrne.com/event/traders-cove-marina-park-brick-7pm-free-outdoor-concert/
LOCATION:Trader’s Cove Marina Park\, Mantoloking Rd\, Brick\, NJ\, United States
END:VEVENT
BEGIN:VEVENT
DTSTART;TZID=UTC:20160730T193000
DTEND;TZID=UTC:20160730T193000
DTSTAMP:20260424T113717
CREATED:20160509T200252Z
LAST-MODIFIED:20160509T200252Z
UID:2411-1469907000-1469907000@bobbybyrne.com
SUMMARY:Cranberry Lake Community Clubhouse - 7:30pm - Residents & Guests
DESCRIPTION:CRANBERRY LAKE COMMUNITY CLUBHOUSE\, Cranberry Lake\, NJ (7:30);\nResidents & Guests;\nShow: 973 396-6286 / 973 347-2081
URL:https://bobbybyrne.com/event/cranberry-lake-community-clubhouse-730pm-residents-guests/
LOCATION:Cranberry Lake Community Clubhouse\, Cranberry Lake\, NJ\, United States
END:VEVENT
BEGIN:VEVENT
DTSTART;TZID=UTC:20160724T163000
DTEND;TZID=UTC:20160724T163000
DTSTAMP:20260424T113717
CREATED:20160509T194718Z
LAST-MODIFIED:20160509T194846Z
UID:2401-1469377800-1469377800@bobbybyrne.com
SUMMARY:Summer Sunday at The Norwood Inn\, Avon - 4:30pm
DESCRIPTION:THE NORWOOD INN\, Avon\, NJ;\nSUMMER SUNDAY AFTERNOONS CONTINUE (4:30pm);\nPub/Dining/Show: 732 775-3900    
URL:https://bobbybyrne.com/event/summer-sunday-at-the-norwood-inn-avon-430pm-5/
LOCATION:Norwood Inn\, 618 2nd Ave\,  Avon-By-The-Sea\, NJ\, 07717\, United States
END:VEVENT
BEGIN:VEVENT
DTSTART;TZID=UTC:20160720T180000
DTEND;TZID=UTC:20160720T180000
DTSTAMP:20260424T113717
CREATED:20160509T200034Z
LAST-MODIFIED:20160509T200034Z
UID:2410-1469037600-1469037600@bobbybyrne.com
SUMMARY:Belmar Fishing Club - 6pm - Members & Guests
DESCRIPTION:BELMAR FISHING CLUB\, Belmar (6pm);\nMembers and Guests
URL:https://bobbybyrne.com/event/belmar-fishing-club-6pm-members-guests-2/
LOCATION:Belmar Fishing Club\, Belmar\, NJ\, United States
END:VEVENT
BEGIN:VEVENT
DTSTART;TZID=UTC:20160717T163000
DTEND;TZID=UTC:20160717T163000
DTSTAMP:20260424T113717
CREATED:20160509T194633Z
LAST-MODIFIED:20160509T194633Z
UID:2400-1468773000-1468773000@bobbybyrne.com
SUMMARY:Summer Sunday at The Norwood Inn\, Avon - 4:30pm
DESCRIPTION:THE NORWOOD INN\, Avon\, NJ;\nSUMMER SUNDAY AFTERNOONS CONTINUE (4:30pm);\nPub/Dining/Show: 732 775-3900    
URL:https://bobbybyrne.com/event/summer-sunday-at-the-norwood-inn-avon-430pm-4/
LOCATION:Norwood Inn\, 618 2nd Ave\,  Avon-By-The-Sea\, NJ\, 07717\, United States
END:VEVENT
BEGIN:VEVENT
DTSTART;VALUE=DATE:20160716
DTEND;VALUE=DATE:20160717
DTSTAMP:20260424T113717
CREATED:20160509T195950Z
LAST-MODIFIED:20160509T195950Z
UID:2409-1468627200-1468713599@bobbybyrne.com
SUMMARY:Private Party
DESCRIPTION:PRIVATE PARTY
URL:https://bobbybyrne.com/event/private-party-6/
END:VEVENT
BEGIN:VEVENT
DTSTART;TZID=UTC:20160714T193000
DTEND;TZID=UTC:20160714T193000
DTSTAMP:20260424T113717
CREATED:20160509T195917Z
LAST-MODIFIED:20160509T195917Z
UID:2408-1468524600-1468524600@bobbybyrne.com
SUMMARY:Breezy Point Co-Op\, NY - 7:30pm - Private Outdoor Concert
DESCRIPTION:BREEZY POINT CO-OP\, NY (7:30pm);\nOutdoor Concert on the Ballfield (Private\, For Residents & Guests)
URL:https://bobbybyrne.com/event/breezy-point-co-op-ny-730pm-private-outdoor-concert/
LOCATION:Breezy Point Co-Op\, NY\, United States
END:VEVENT
BEGIN:VEVENT
DTSTART;TZID=UTC:20160710T163000
DTEND;TZID=UTC:20160710T163000
DTSTAMP:20260424T113717
CREATED:20160509T194534Z
LAST-MODIFIED:20160509T194534Z
UID:2399-1468168200-1468168200@bobbybyrne.com
SUMMARY:Summer Sunday at The Norwood Inn\, Avon - 4:30pm
DESCRIPTION:THE NORWOOD INN\, Avon\, NJ;\nSUMMER SUNDAY AFTERNOONS CONTINUE (4:30pm);\nPub/Dining/Show: 732 775-3900    
URL:https://bobbybyrne.com/event/summer-sunday-at-the-norwood-inn-avon-430pm-3/
LOCATION:Norwood Inn\, 618 2nd Ave\,  Avon-By-The-Sea\, NJ\, 07717\, United States
END:VEVENT
BEGIN:VEVENT
DTSTART;TZID=UTC:20160703T163000
DTEND;TZID=UTC:20160703T163000
DTSTAMP:20260424T113717
CREATED:20160509T195410Z
LAST-MODIFIED:20160509T195410Z
UID:2405-1467563400-1467563400@bobbybyrne.com
SUMMARY:Summer Sunday at The Norwood Inn\, Avon - 4:30pm - 4th of July Celebration
DESCRIPTION:THE NORWOOD INN\, Avon\, NJ;\n4th of JULY CELEBRATION (4:30);\nPub/Dining/Show: 732 775-3900
URL:https://bobbybyrne.com/event/summer-sunday-at-the-norwood-inn-avon-430pm-4th-of-july-celebration/
LOCATION:Norwood Inn\, 618 2nd Ave\,  Avon-By-The-Sea\, NJ\, 07717\, United States
END:VEVENT
BEGIN:VEVENT
DTSTART;TZID=UTC:20160626T163000
DTEND;TZID=UTC:20160626T163000
DTSTAMP:20260424T113717
CREATED:20160509T194444Z
LAST-MODIFIED:20160509T194444Z
UID:2398-1466958600-1466958600@bobbybyrne.com
SUMMARY:Summer Sunday at The Norwood Inn\, Avon - 4:30pm
DESCRIPTION:THE NORWOOD INN\, Avon\, NJ;\nSUMMER SUNDAY AFTERNOONS CONTINUE (4:30pm);\nPub/Dining/Show: 732 775-3900    
URL:https://bobbybyrne.com/event/summer-sunday-at-the-norwood-inn-avon-430pm-2/
LOCATION:Norwood Inn\, 618 2nd Ave\,  Avon-By-The-Sea\, NJ\, 07717\, United States
END:VEVENT
BEGIN:VEVENT
DTSTART;TZID=UTC:20160618T193000
DTEND;TZID=UTC:20160618T193000
DTSTAMP:20260424T113717
CREATED:20160212T084412Z
LAST-MODIFIED:20160509T193658Z
UID:2320-1466278200-1466278200@bobbybyrne.com
SUMMARY:Greenbriar One\, Brick - 7:30pm - Residents & Guests
DESCRIPTION:GREENBRIAR ONE\, Brick\, NJ (7:30pm) Concert;\n(Residents and Guests)
URL:https://bobbybyrne.com/event/greenbriar-one-brick-730pm-residents-guests/
LOCATION:Greenbriar One\, Brick\, NJ\, United States
END:VEVENT
BEGIN:VEVENT
DTSTART;TZID=UTC:20160616T203000
DTEND;TZID=UTC:20160616T203000
DTSTAMP:20260424T113717
CREATED:20160509T195750Z
LAST-MODIFIED:20160509T195750Z
UID:2407-1466109000-1466109000@bobbybyrne.com
SUMMARY:Kasschau Memorial Shell\, Ridgewood - 8:30pm - Free Outdoor Concert
DESCRIPTION:KASSCHAU MEMORIAL SHELL\, Ridgewood (8:30pm);\n Free Outdoor Concert\, Veterans Field\, (behind library);\nBRING A CHAIR
URL:https://bobbybyrne.com/event/kasschau-memorial-shell-ridgewood-830pm-free-outdoor-concert-3/
LOCATION:Kasschau Memorial Shell\, On Veterans Field\, behind the Ridgewood Public Library (125 N Maple Ave\, Ridgewood\, NJ 07450)\, Ridgewood\, NJ\, 07450\, United States
END:VEVENT
BEGIN:VEVENT
DTSTART;TZID=UTC:20160614T173000
DTEND;TZID=UTC:20160614T173000
DTSTAMP:20260424T113717
CREATED:20160509T195612Z
LAST-MODIFIED:20160509T195612Z
UID:2406-1465925400-1465925400@bobbybyrne.com
SUMMARY:Lobster Shanty\, Pt. Pleasant - 5:30pm
DESCRIPTION:LOBSTER SHANTY\, Pt. Pleasant (5:30pm);\nPatriotic Songs for Flag Day\, Broadway\, Irish\, & More;\nBar/Dining/Show: 732 899-6700
URL:https://bobbybyrne.com/event/lobster-shanty-pt-pleasant-530pm/
LOCATION:Jack Baker’s Lobster Shanty\, 83 Channel Dr\, Point Pleasant Beach\, NJ\, 08742\, United States
END:VEVENT
BEGIN:VEVENT
DTSTART;TZID=UTC:20160612T163000
DTEND;TZID=UTC:20160612T163000
DTSTAMP:20260424T113717
CREATED:20160509T194350Z
LAST-MODIFIED:20160509T194350Z
UID:2397-1465749000-1465749000@bobbybyrne.com
SUMMARY:Summer Sunday at The Norwood Inn\, Avon - 4:30pm
DESCRIPTION:THE NORWOOD INN\, Avon\, NJ;\nSUMMER SUNDAY AFTERNOONS CONTINUE (4:30pm);\nPub/Dining/Show: 732 775-3900    
URL:https://bobbybyrne.com/event/summer-sunday-at-the-norwood-inn-avon-430pm/
LOCATION:Norwood Inn\, 618 2nd Ave\,  Avon-By-The-Sea\, NJ\, 07717\, United States
END:VEVENT
BEGIN:VEVENT
DTSTART;TZID=UTC:20160611T190000
DTEND;TZID=UTC:20160611T190000
DTSTAMP:20260424T113717
CREATED:20160509T194216Z
LAST-MODIFIED:20160509T194216Z
UID:2396-1465671600-1465671600@bobbybyrne.com
SUMMARY:Four Seasons at Great Notch\, Woodland Park NJ - 7pm - Residents & Guests
DESCRIPTION:FOUR SEASONS AT GREAT NOTCH\, Woodland Park\, NJ (7pm);\nResidents & Guests
URL:https://bobbybyrne.com/event/four-seasons-at-great-notch-woodland-park-nj-7pm-residents-guests/
LOCATION:Four Seasons at Great Notch\, Woodland Park\, NJ\, United States
END:VEVENT
BEGIN:VEVENT
DTSTART;TZID=UTC:20160604T140000
DTEND;TZID=UTC:20160604T140000
DTSTAMP:20260424T113717
CREATED:20160212T084656Z
LAST-MODIFIED:20160223T014843Z
UID:2321-1465048800-1465048800@bobbybyrne.com
SUMMARY:Rivara's\, Fair Lawn - 2pm - Dinner & Show
DESCRIPTION:RIVARA’S\, Fair Lawn\, NJ OUR FIRST TIME HERE. (2pm);\nPRIX FIXE DINNER & SHOW.\nCALL FOR RESERVATIONS: 201 797-4878\nThe duration (https://www.glowdentaldallas.com/dental-services/tramadol/) of moderate-intensity varies widely\, due to the individual growth rate of the tumour.
URL:https://bobbybyrne.com/event/rivaras-fair-lawn-2pm-dinner-show/
LOCATION:Rivara’s\, 6-18 Maple Ave\, Fair Lawn\, NJ\, 07410\, United States
END:VEVENT
BEGIN:VEVENT
DTSTART;TZID=UTC:20160529T163000
DTEND;TZID=UTC:20160529T163000
DTSTAMP:20260424T113717
CREATED:20160509T194012Z
LAST-MODIFIED:20160509T194114Z
UID:2395-1464539400-1464539400@bobbybyrne.com
SUMMARY:Summer Sunday at The Norwood Inn\, Avon - 4:30pm - Patriotic Show
DESCRIPTION:THE NORWOOD INN\, Avon\, NJ;\nSUMMER SUNDAY MEMORIAL DAY PATRIOTIC SHOW(4:30);\nPub/Dining/Show: 732 775-3900
URL:https://bobbybyrne.com/event/summer-sunday-at-the-norwood-inn-avon-430pm-patriotic-show/
LOCATION:Norwood Inn\, 618 2nd Ave\,  Avon-By-The-Sea\, NJ\, 07717\, United States
END:VEVENT
BEGIN:VEVENT
DTSTART;TZID=UTC:20160522T140000
DTEND;TZID=UTC:20160522T140000
DTSTAMP:20260424T113717
CREATED:20160509T193814Z
LAST-MODIFIED:20160509T193814Z
UID:2393-1463925600-1463925600@bobbybyrne.com
SUMMARY:FinnFest Fundraiser\, Norwood Inn\, 2pm
DESCRIPTION:FINNFEST: Fundraiser\, Norwood Inn\, in Joe Finn’s Memory For Monmouth Medical Center Brain Tumor Ctr. (2pm; $40);\nSeveral Bands Including Us
URL:https://bobbybyrne.com/event/finnfest-fundraiser-norwood-inn-2pm/
LOCATION:Norwood Inn\, 618 2nd Ave\,  Avon-By-The-Sea\, NJ\, 07717\, United States
END:VEVENT
BEGIN:VEVENT
DTSTART;TZID=UTC:20160515T163000
DTEND;TZID=UTC:20160515T163000
DTSTAMP:20260424T113717
CREATED:20160417T034045Z
LAST-MODIFIED:20160509T193343Z
UID:2382-1463329800-1463329800@bobbybyrne.com
SUMMARY:Summer Sundays Begin at The Norwood Inn in Avon\, 4:30pm
DESCRIPTION:SUMMER SUNDAY AFTERNOONS Will Be At THE NORWOOD INN\, Avon-by-the-Sea\, Beginning May 15th\n4:30 – 8:30pm; 732 775-3900 \nMy great friend\, the late Joe Finn\, established Sunday afternoons at The Norwood many years ago. Charlie and I are happy to be continuing the tradition.  \n 
URL:https://bobbybyrne.com/event/summer-sundays-begin-at-the-norwood-inn-in-avon/
LOCATION:Norwood Inn\, 618 2nd Ave\,  Avon-By-The-Sea\, NJ\, 07717\, United States
END:VEVENT
BEGIN:VEVENT
DTSTART;TZID=UTC:20160514T120000
DTEND;TZID=UTC:20160514T120000
DTSTAMP:20260424T113717
CREATED:20160212T084237Z
LAST-MODIFIED:20160212T084237Z
UID:2318-1463227200-1463227200@bobbybyrne.com
SUMMARY:Sayreville Sr. Ctr. for Sayreville Public Library - 12 Noon - Irish Show
DESCRIPTION:SAYREVILLE SENIOR CENTER for SAYREVILLE PUBLIC LIBRARY (12 Noon);\nIRISH SHOW;\nRefreshments/Show: 732 727-0212
URL:https://bobbybyrne.com/event/sayreville-sr-ctr-for-sayreville-public-library-12-noon-irish-show/
LOCATION:Sayreville Senior Center\, 423 Main St \, Sayreville\, NJ\, 08872 \, United States
END:VEVENT
BEGIN:VEVENT
DTSTART;TZID=UTC:20160428T113000
DTEND;TZID=UTC:20160428T113000
DTSTAMP:20260424T113717
CREATED:20160212T083812Z
LAST-MODIFIED:20160212T083812Z
UID:2317-1461843000-1461843000@bobbybyrne.com
SUMMARY:Doolan's\, Sp. Lake Hts. - 11:30am - Broadway Show plus more
DESCRIPTION:DOOLAN’S\, Spring Lake Heights\, (11:30am);\nAll-Star Productions produces these luncheon shows\, starring Bobby Byrne’s Broadway Show plus comedian\, dancing\, luncheon\, cocktails\, wine. For prices and reservations call All-Star Productions at 800 291-4371.
URL:https://bobbybyrne.com/event/doolans-sp-lake-hts-1130am-broadway-show-plus-more-3/
LOCATION:Doolan’s\, 700 State Hwy 71\, Spring Lake Heights\, NJ\, 07762\, United States
END:VEVENT
BEGIN:VEVENT
DTSTART;TZID=UTC:20160427T113000
DTEND;TZID=UTC:20160427T113000
DTSTAMP:20260424T113717
CREATED:20160212T083713Z
LAST-MODIFIED:20160212T083713Z
UID:2316-1461756600-1461756600@bobbybyrne.com
SUMMARY:Doolan’s\, Sp. Lake Hts. – 11:30am – Broadway Show plus more
DESCRIPTION:DOOLAN’S\, Spring Lake Heights\, (11:30am);\nAll-Star Productions produces these luncheon shows\, starring Bobby Byrne’s Broadway Show plus comedian\, dancing\, luncheon\, cocktails\, wine. For prices and reservations call All-Star Productions at 800 291-4371.
URL:https://bobbybyrne.com/event/doolans-sp-lake-hts-1130am-broadway-show-plus-more-2/
LOCATION:Doolan’s\, 700 State Hwy 71\, Spring Lake Heights\, NJ\, 07762\, United States
END:VEVENT
BEGIN:VEVENT
DTSTART;TZID=UTC:20160426T113000
DTEND;TZID=UTC:20160426T233000
DTSTAMP:20260424T113717
CREATED:20160212T083609Z
LAST-MODIFIED:20160212T083728Z
UID:2315-1461670200-1461713400@bobbybyrne.com
SUMMARY:Doolan's\, Sp. Lake Hts. - 11:30am - Broadway Show plus more
DESCRIPTION:DOOLAN’S\, Spring Lake Heights\, (11:30am);\nAll-Star Productions produces these luncheon shows\, starring Bobby Byrne’s Broadway Show plus comedian\, dancing\, luncheon\, cocktails\, wine. For prices and reservations call All-Star  Productions at 800 291-4371.
URL:https://bobbybyrne.com/event/doolans-sp-lake-hts-1130am-broadway-show-plus-more/
LOCATION:Doolan’s\, 700 State Hwy 71\, Spring Lake Heights\, NJ\, 07762\, United States
END:VEVENT
BEGIN:VEVENT
DTSTART;TZID=UTC:20160415T190000
DTEND;TZID=UTC:20160424T190000
DTSTAMP:20260424T113717
CREATED:20160212T083440Z
LAST-MODIFIED:20160212T083440Z
UID:2314-1460746800-1461524400@bobbybyrne.com
SUMMARY:Springtime in Ireland Tour - Waiting List
DESCRIPTION:BOBBY BYRNE “SPRINGTIME IN IRELAND” TOUR\n(Sold Out\, But Last Minute Cancellations Do Happen);\n800 883-8646
URL:https://bobbybyrne.com/event/springtime-in-ireland-tour-waiting-list/
END:VEVENT
BEGIN:VEVENT
DTSTART;TZID=UTC:20160413T113000
DTEND;TZID=UTC:20160413T113000
DTSTAMP:20260424T113717
CREATED:20160212T083318Z
LAST-MODIFIED:20160212T083318Z
UID:2313-1460547000-1460547000@bobbybyrne.com
SUMMARY:Li Greci’s STAATEN\, Staten Island – 11:30am – Broadway Show plus more
DESCRIPTION:Li Greci’s STAATEN\, Staten Island (11:30am);\nAll-Star Productions produces these luncheon shows\, starring Bobby Byrne’s Broadway Show plus comedian\, dancing\, luncheon\, cocktails\, wine.\nFor prices and reservations call All-Star Productions at 800 291-4371.
URL:https://bobbybyrne.com/event/li-grecis-staaten-staten-island-1130am-broadway-show-plus-more/
LOCATION:Li Greci’s STAATEN\, 697 Forest Ave\, Staten Island\, NJ\, 10310\, United States
END:VEVENT
BEGIN:VEVENT
DTSTART;TZID=UTC:20160412T113000
DTEND;TZID=UTC:20160412T113000
DTSTAMP:20260424T113717
CREATED:20160212T083231Z
LAST-MODIFIED:20160212T083335Z
UID:2312-1460460600-1460460600@bobbybyrne.com
SUMMARY:Li Greci’s STAATEN\, Staten Island – 11:30am – Broadway Show plus more
DESCRIPTION:Li Greci’s STAATEN\, Staten Island (11:30am);\nAll-Star Productions produces these luncheon shows\, starring Bobby Byrne’s Broadway Show plus comedian\, dancing\, luncheon\, cocktails\, wine.\nFor prices and reservations call All-Star Productions at 800 291-4371.
URL:https://bobbybyrne.com/event/2312/
LOCATION:Li Greci’s STAATEN\, 697 Forest Ave\, Staten Island\, NJ\, 10310\, United States
END:VEVENT
BEGIN:VEVENT
DTSTART;TZID=UTC:20160411T113000
DTEND;TZID=UTC:20160411T113000
DTSTAMP:20260424T113717
CREATED:20160212T082925Z
LAST-MODIFIED:20160212T083119Z
UID:2310-1460374200-1460374200@bobbybyrne.com
SUMMARY:Li Greci's STAATEN\, Staten Island - 11:30am - Broadway Show plus more
DESCRIPTION:Li Greci’s STAATEN\, Staten Island (11:30am);\nAll-Star Productions produces these luncheon shows\, starring Bobby Byrne’s Broadway Show plus comedian\, dancing\, luncheon\, cocktails\, wine.\nFor prices and reservations call All-Star  Productions at 800 291-4371.
URL:https://bobbybyrne.com/event/li-grecis-staaten-staten-island-1130am-broadway-show/
LOCATION:Li Greci’s STAATEN\, 697 Forest Ave\, Staten Island\, NJ\, 10310\, United States
END:VEVENT
BEGIN:VEVENT
DTSTART;TZID=UTC:20160403T140000
DTEND;TZID=UTC:20160403T140000
DTSTAMP:20260424T113717
CREATED:20160212T082803Z
LAST-MODIFIED:20160212T082803Z
UID:2309-1459692000-1459692000@bobbybyrne.com
SUMMARY:Maywood Inn - 2pm - Irish Show
DESCRIPTION:MAYWOOD INN\, Maywood\, NJ (2pm);\nPOST-ST. PATRICK’S DAY IRISH SHOW;\nDinner/Dancing/Show: 201 843-8022
URL:https://bobbybyrne.com/event/maywood-inn-2pm-irish-show/
LOCATION:Maywood Inn\, 122 W Pleasant Ave\, Maywood\, NJ\, 07607\, United States
END:VEVENT
BEGIN:VEVENT
DTSTART;TZID=UTC:20160312T120000
DTEND;TZID=UTC:20160312T120000
DTSTAMP:20260424T113717
CREATED:20160212T082546Z
LAST-MODIFIED:20160212T082546Z
UID:2308-1457784000-1457784000@bobbybyrne.com
SUMMARY:St. Patrick's Day Caribbean Cruise
DESCRIPTION:BOBBY BYRNE ST. PATRICK’S DAY CARIBBEAN CRUISE\, NORWEGIAN GEM\, OUT OF NEW YORK;\n800 883-8646
URL:https://bobbybyrne.com/event/st-patricks-day-caribbean-cruise/
END:VEVENT
BEGIN:VEVENT
DTSTART;TZID=UTC:20160310T173000
DTEND;TZID=UTC:20160310T173000
DTSTAMP:20260424T113717
CREATED:20160212T082352Z
LAST-MODIFIED:20160212T082352Z
UID:2307-1457631000-1457631000@bobbybyrne.com
SUMMARY:Lobster Shanty\, Pt. Pleasant - 5:30pm - Irish Show
DESCRIPTION:JACK BAKER’S LOBSTER SHANTY\, Pt. Pleasant Beach\, NJ (5:30);\nIRISH SHOW (Irish Dinner Specials): \nBar/Dining/Show: 732 899-6700
URL:https://bobbybyrne.com/event/lobster-shanty-pt-pleasant-530pm-irish-show/
LOCATION:Jack Baker’s Lobster Shanty\, 83 Channel Dr\, Point Pleasant Beach\, NJ\, 08742\, United States
END:VEVENT
END:VCALENDAR