BEGIN:VCALENDAR
VERSION:2.0
PRODID:-//The Bobby Byrne Show - ECPv6.15.13.1//NONSGML v1.0//EN
CALSCALE:GREGORIAN
METHOD:PUBLISH
X-WR-CALNAME:The Bobby Byrne Show
X-ORIGINAL-URL:https://bobbybyrne.com
X-WR-CALDESC:Events for The Bobby Byrne Show
REFRESH-INTERVAL;VALUE=DURATION:PT1H
X-Robots-Tag:noindex
X-PUBLISHED-TTL:PT1H
BEGIN:VTIMEZONE
TZID:America/Halifax
BEGIN:DAYLIGHT
TZOFFSETFROM:-0400
TZOFFSETTO:-0300
TZNAME:ADT
DTSTART:20160313T060000
END:DAYLIGHT
BEGIN:STANDARD
TZOFFSETFROM:-0300
TZOFFSETTO:-0400
TZNAME:AST
DTSTART:20161106T050000
END:STANDARD
BEGIN:DAYLIGHT
TZOFFSETFROM:-0400
TZOFFSETTO:-0300
TZNAME:ADT
DTSTART:20170312T060000
END:DAYLIGHT
BEGIN:STANDARD
TZOFFSETFROM:-0300
TZOFFSETTO:-0400
TZNAME:AST
DTSTART:20171105T050000
END:STANDARD
BEGIN:DAYLIGHT
TZOFFSETFROM:-0400
TZOFFSETTO:-0300
TZNAME:ADT
DTSTART:20180311T060000
END:DAYLIGHT
BEGIN:STANDARD
TZOFFSETFROM:-0300
TZOFFSETTO:-0400
TZNAME:AST
DTSTART:20181104T050000
END:STANDARD
BEGIN:DAYLIGHT
TZOFFSETFROM:-0400
TZOFFSETTO:-0300
TZNAME:ADT
DTSTART:20190310T060000
END:DAYLIGHT
BEGIN:STANDARD
TZOFFSETFROM:-0300
TZOFFSETTO:-0400
TZNAME:AST
DTSTART:20191103T050000
END:STANDARD
BEGIN:DAYLIGHT
TZOFFSETFROM:-0400
TZOFFSETTO:-0300
TZNAME:ADT
DTSTART:20200308T060000
END:DAYLIGHT
BEGIN:STANDARD
TZOFFSETFROM:-0300
TZOFFSETTO:-0400
TZNAME:AST
DTSTART:20201101T050000
END:STANDARD
END:VTIMEZONE
BEGIN:VEVENT
DTSTART;TZID=America/Halifax:20191104T113000
DTEND;TZID=America/Halifax:20191104T153000
DTSTAMP:20260423T233404
CREATED:20180819T205933Z
LAST-MODIFIED:20190801T021104Z
UID:2783-1572867000-1572881400@bobbybyrne.com
SUMMARY:The Three Irish Tenors – Byrne Brothers Luncheon Cabaret – Li Greci’s Staaten\, Staten Island NY
DESCRIPTION:Mike Byrne All Star Productions presents \nTHE BYRNE BROTHERS \nJimmy\, Bobby\, and Mike  \nTHE THREE IRISH TENORS \nA New Luncheon Cabaret Show \nPlus comedian\, dancing\, and sing-a-long at \nLI GRECI’S STAATEN \nStaten Island\, NY \n11:30am – 3:30pm  \nMonday\, November 4\nWednesday\, Nov 6\nThursday\, Nov 7  \n($51.50 plus tax includes Three Course Luncheon\, Wine Hour\, and One Hour Open Bar.)      \nBY RESERVATION ONLY \nCall All Star Productions: 732 458-7118  \nAND AT  \nDOOLAN’S SHORE CLUB \nSpring Lake Hts.\, NJ \n11:30am – 3:30pm  \nTuesday\, November 12\nWednesday\, November 13\nThursday\, November 14 \n($51.00 plus tax includes Three Course Luncheon\, Wine Hour\, and One Hour Open Bar.)      \nBY RESERVATION ONLY \nCall All Star Productions: 732 458-7118  \nDo Not Call Doolan’s or Li Greci’s Staaten \n 
URL:https://bobbybyrne.com/event/the-three-irish-tenors-byrne-brothers-luncheon-cabaret-li-grecis-staaten-staten-island-ny-3/
LOCATION:Li Greci’s STAATEN\, 697 Forest Ave\, Staten Island\, NJ\, 10310\, United States
END:VEVENT
BEGIN:VEVENT
DTSTART;TZID=America/Halifax:20190702T203000
DTEND;TZID=America/Halifax:20190702T203000
DTSTAMP:20260423T233404
CREATED:20170213T162425Z
LAST-MODIFIED:20190624T201656Z
UID:2567-1562099400-1562099400@bobbybyrne.com
SUMMARY:Free Outdoor Concert: Kasschau Memorial Shell\, Ridgewood - 8:30pm
DESCRIPTION:TUE JULY 02   \nKASSCHAU MEMORIAL SHELL\, Ridgewood\, NJ\n(8:30pm)  \nFree Outdoor Concert  \nVeterans Field\, (behind library)  \nBRING A CHAIR 
URL:https://bobbybyrne.com/event/kasschau-memorial-shell-ridgewood-830pm-free-outdoor-concert-4/
LOCATION:Kasschau Memorial Shell\, On Veterans Field\, behind the Ridgewood Public Library (125 N Maple Ave\, Ridgewood\, NJ 07450)\, Ridgewood\, NJ\, 07450\, United States
END:VEVENT
BEGIN:VEVENT
DTSTART;TZID=America/Halifax:20190416T113000
DTEND;TZID=America/Halifax:20190416T153000
DTSTAMP:20260423T233404
CREATED:20190315T004719Z
LAST-MODIFIED:20190315T010114Z
UID:2826-1555414200-1555428600@bobbybyrne.com
SUMMARY:Li Greci's Staaten\, Staten Island\, NY - 11:30am - Broadway Luncheon Show
DESCRIPTION:MIKE BYRNE ALL STAR PRODUCTIONS\npresents\nBOBBY BYRNE’S BROADWAY\nComedian – Dancing – Luncheon – Cocktail Hour – Wine with Meal\nTuesday\, April 16\n11:30am – 3:30pm\nat Li Greci’s Staaten\, Staten Island\, NY\n\nFOR PRICES AND RESERVATIONS CALL ALL STAR PRODUCTIONS AT:\n732 458-7118\n(Do Not Call Li Greci’s Staaten!)
URL:https://bobbybyrne.com/event/li-grecis-staaten-staten-island-ny-1130am-broadway-luncheon-show/
LOCATION:The Shore Club\, 700 State Hwy 71\, Spring Lake Heights\, NJ\, 07762\, United States
END:VEVENT
BEGIN:VEVENT
DTSTART;TZID=America/Halifax:20190410T113000
DTEND;TZID=America/Halifax:20190410T153000
DTSTAMP:20260423T233404
CREATED:20180320T225420Z
LAST-MODIFIED:20190315T004204Z
UID:2746-1554895800-1554910200@bobbybyrne.com
SUMMARY:Doolan's Shore Club\, Sp. Lk. Hts. - 11:30am - Broadway Luncheon Show
DESCRIPTION:MIKE BYRNE ALL STAR PRODUCTIONS\npresents\nBOBBY BYRNE’S BROADWAY\nComedian – Dancing – Luncheon – Cocktail Hour – Wine with Meal\nWednesday\, April 10\n11:30am – 3:30pm\nat Doolan’s Shore Club\, Spring Lake Hts.\, NJ\nFOR PRICES AND RESERVATIONS CALL ALL STAR PRODUCTIONS AT:\n732 458-7118\n(Do Not Call Doolan’s!)
URL:https://bobbybyrne.com/event/doolans-shore-club-sp-lk-hts-1130am-broadway-luncheon-show-3/
LOCATION:The Shore Club\, 700 State Hwy 71\, Spring Lake Heights\, NJ\, 07762\, United States
END:VEVENT
BEGIN:VEVENT
DTSTART;TZID=America/Halifax:20190408T113000
DTEND;TZID=America/Halifax:20190408T153000
DTSTAMP:20260423T233404
CREATED:20190315T004104Z
LAST-MODIFIED:20190315T004137Z
UID:2822-1554723000-1554737400@bobbybyrne.com
SUMMARY:Doolan's Shore Club\, Sp. Lk. Hts. - 11:30am - Broadway Luncheon Show
DESCRIPTION:MIKE BYRNE ALL STAR PRODUCTIONS\npresents\nBOBBY BYRNE’S BROADWAY\nComedian – Dancing – Luncheon – Cocktail Hour – Wine with Meal\nMonday\, April 8\n11:30am – 3:30pm\nat Doolan’s Shore Club\, Spring Lake Hts.\, NJ\nFOR PRICES AND RESERVATIONS CALL ALL STAR PRODUCTIONS AT:\n732 458-7118\n(Do Not Call Doolan’s!)
URL:https://bobbybyrne.com/event/doolans-shore-club-sp-lk-hts-1130am-broadway-luncheon-show-4/
LOCATION:The Shore Club\, 700 State Hwy 71\, Spring Lake Heights\, NJ\, 07762\, United States
END:VEVENT
BEGIN:VEVENT
DTSTART;TZID=America/Halifax:20190317T173000
DTEND;TZID=America/Halifax:20190317T173000
DTSTAMP:20260423T233404
CREATED:20190315T005455Z
LAST-MODIFIED:20190315T012507Z
UID:2830-1552843800-1552843800@bobbybyrne.com
SUMMARY:St. Patrick's Day Dinner Show - Doolan's Shore Club - 5:30pm
DESCRIPTION:THE BOBBY BYRNE IRISH SHOW\nSUNDAY\, MARCH 17  – ST. PATRICK’S DAY\n(VERY LIMITED AVAILABILITY; CALL IMMEDIATELY)\n\nDinner & Show\n  5:30pm\n\nDoolan’s Shore Club\nRt. 71\, Spring Lake Hts.\, NJ\n$47 per person; Standard Seating: Available\n$52 p.p.\, Preferred Seating: Sold Out\n(Includes Complete Dinner\, Show\, Tax & Tip)\nReservations must be paid in advance.\nCall Doolan’s Shore Club\n732 449-3666
URL:https://bobbybyrne.com/event/st-patricks-day-dinner-show-doolans-shore-club-530pm/
LOCATION:The Shore Club\, 700 State Hwy 71\, Spring Lake Heights\, NJ\, 07762\, United States
END:VEVENT
BEGIN:VEVENT
DTSTART;TZID=America/Halifax:20181209T140000
DTEND;TZID=America/Halifax:20181209T140000
DTSTAMP:20260423T233404
CREATED:20181003T204352Z
LAST-MODIFIED:20181003T205140Z
UID:2786-1544364000-1544364000@bobbybyrne.com
SUMMARY:Christmas Show - 2pm - Doolan's Shore Club
DESCRIPTION:THE ANNUAL BOBBY BYRNE CHRISTMAS SHOW\nDOOLAN’S SHORE CLUB\nSpring Lake Heights\, NJ\nSunday December 9th and Sunday December 16th\n2pm\n$52 per person for preferred seating\n$47 per person for standard seating\nINCLUDES:\nDinner (Pasta\, Salad\, Choice of Entree\, Dessert)\, Dancing\, Show\, Tax\, and Gratuity\nReservations to be paid for in advance: 732 449-3666\nIf your goal is to increase the pleasure of sexual intimacy\, then take https://www.sandwichmedical.com/links-and-resources/cialis-online in the amount of one tablet 10-20 mg per day 30-40 minutes before sexual intercourse.
URL:https://bobbybyrne.com/event/christmas-show-2pm-doolans-shore-club/
LOCATION:The Shore Club\, 700 State Hwy 71\, Spring Lake Heights\, NJ\, 07762\, United States
END:VEVENT
BEGIN:VEVENT
DTSTART;TZID=America/Halifax:20181114T113000
DTEND;TZID=America/Halifax:20181114T153000
DTSTAMP:20260423T233404
CREATED:20180819T205856Z
LAST-MODIFIED:20180819T205856Z
UID:2781-1542195000-1542209400@bobbybyrne.com
SUMMARY:The Three Irish Tenors – Byrne Brothers Luncheon Cabaret – Li Greci’s Staaten\, Staten Island NY
DESCRIPTION:Mike Byrne All Star Productions presents \nTHE BYRNE BROTHERS \nJimmy\, Bobby\, and Mike \nIn A New Show  \nTHE THREE IRISH TENORS \nA Luncheon Cabaret Show \nPlus comedian\, dancing\, and sing-a-long.  \n($50 plus tax includes Three Course Luncheon\, Wine Hour\, and One Hour Open Bar.) \nat  \nDOOLAN’S SHORE CLUB \nSpring Lake Hts.\, NJ \n11:30am – 3:30pm  \nWednesday\, November 7 \nThursday\, November 8 \nFriday\, November 9  \nBY RESERVATION ONLY \nCall All Star Productions: 732 458-7118  \nAND AT  \nLI GRECI’S STAATEN \nStaten Island\, NY \n11:30am – 3:30pm  \nTuesday\, November 13 \nWednesday\, November 14 \nThursday\, November 15  \nBY RESERVATION ONLY \nCall All Star Productions: 732 458-7118
URL:https://bobbybyrne.com/event/the-three-irish-tenors-byrne-brothers-luncheon-cabaret-li-grecis-staaten-staten-island-ny-2/
LOCATION:Li Greci’s STAATEN\, 697 Forest Ave\, Staten Island\, NJ\, 10310\, United States
END:VEVENT
BEGIN:VEVENT
DTSTART;TZID=America/Halifax:20181113T113000
DTEND;TZID=America/Halifax:20181113T153000
DTSTAMP:20260423T233404
CREATED:20180819T205739Z
LAST-MODIFIED:20180819T205739Z
UID:2779-1542108600-1542123000@bobbybyrne.com
SUMMARY:The Three Irish Tenors - Byrne Brothers Luncheon Cabaret - Li Greci's Staaten\, Staten Island NY
DESCRIPTION:Mike Byrne All Star Productions presents \nTHE BYRNE BROTHERS \nJimmy\, Bobby\, and Mike \nIn A New Show  \nTHE THREE IRISH TENORS \nA Luncheon Cabaret Show \nPlus comedian\, dancing\, and sing-a-long.  \n($50 plus tax includes Three Course Luncheon\, Wine Hour\, and One Hour Open Bar.) \nat  \nDOOLAN’S SHORE CLUB \nSpring Lake Hts.\, NJ \n11:30am – 3:30pm  \nWednesday\, November 7 \nThursday\, November 8 \nFriday\, November 9  \nBY RESERVATION ONLY \nCall All Star Productions: 732 458-7118  \nAND AT  \nLI GRECI’S STAATEN \nStaten Island\, NY \n11:30am – 3:30pm  \nTuesday\, November 13 \nWednesday\, November 14 \nThursday\, November 15  \nBY RESERVATION ONLY \nCall All Star Productions: 732 458-7118
URL:https://bobbybyrne.com/event/the-three-irish-tenors-byrne-brothers-luncheon-cabaret-li-grecis-staaten-staten-island-ny/
LOCATION:Li Greci’s STAATEN\, 697 Forest Ave\, Staten Island\, NJ\, 10310\, United States
END:VEVENT
BEGIN:VEVENT
DTSTART;TZID=America/Halifax:20181109T113000
DTEND;TZID=America/Halifax:20181109T153000
DTSTAMP:20260423T233404
CREATED:20180819T205514Z
LAST-MODIFIED:20180819T205514Z
UID:2777-1541763000-1541777400@bobbybyrne.com
SUMMARY:The Three Irish Tenors - Byrne Brothers Luncheon Cabaret - Doolans\, Sp. Lk. Hts.
DESCRIPTION:Mike Byrne All Star Productions presents \nTHE BYRNE BROTHERS \nJimmy\, Bobby\, and Mike \nIn A New Show  \nTHE THREE IRISH TENORS \nA Luncheon Cabaret Show \nPlus comedian\, dancing\, and sing-a-long.  \n($50 plus tax includes Three Course Luncheon\, Wine Hour\, and One Hour Open Bar.) \nat  \nDOOLAN’S SHORE CLUB \nSpring Lake Hts.\, NJ \n11:30am – 3:30pm  \nWednesday\, November 7 \nThursday\, November 8 \nFriday\, November 9  \nBY RESERVATION ONLY \nCall All Star Productions: 732 458-7118  \nAND AT  \nLI GRECI’S STAATEN \nStaten Island\, NY \n11:30am – 3:30pm  \nTuesday\, November 13 \nWednesday\, November 14 \nThursday\, November 15  \nBY RESERVATION ONLY \nCall All Star Productions: 732 458-7118
URL:https://bobbybyrne.com/event/the-three-irish-tenors-byrne-brothers-luncheon-cabaret-doolans-sp-lk-hts-3/
LOCATION:The Shore Club\, 700 State Hwy 71\, Spring Lake Heights\, NJ\, 07762\, United States
END:VEVENT
BEGIN:VEVENT
DTSTART;TZID=America/Halifax:20181108T113000
DTEND;TZID=America/Halifax:20181108T153000
DTSTAMP:20260423T233404
CREATED:20180819T205425Z
LAST-MODIFIED:20180819T205425Z
UID:2775-1541676600-1541691000@bobbybyrne.com
SUMMARY:The Three Irish Tenors - Byrne Brothers Luncheon Cabaret - Doolans\, Sp. Lk. Hts.
DESCRIPTION:Mike Byrne All Star Productions presents \nTHE BYRNE BROTHERS \nJimmy\, Bobby\, and Mike \nIn A New Show  \nTHE THREE IRISH TENORS \nA Luncheon Cabaret Show \nPlus comedian\, dancing\, and sing-a-long.  \n($50 plus tax includes Three Course Luncheon\, Wine Hour\, and One Hour Open Bar.) \nat  \nDOOLAN’S SHORE CLUB \nSpring Lake Hts.\, NJ \n11:30am – 3:30pm  \nWednesday\, November 7 \nThursday\, November 8 \nFriday\, November 9  \nBY RESERVATION ONLY \nCall All Star Productions: 732 458-7118  \nAND AT  \nLI GRECI’S STAATEN \nStaten Island\, NY \n11:30am – 3:30pm  \nTuesday\, November 13 \nWednesday\, November 14 \nThursday\, November 15  \nBY RESERVATION ONLY \nCall All Star Productions: 732 458-7118
URL:https://bobbybyrne.com/event/the-three-irish-tenors-byrne-brothers-luncheon-cabaret-doolans-sp-lk-hts-2/
LOCATION:The Shore Club\, 700 State Hwy 71\, Spring Lake Heights\, NJ\, 07762\, United States
END:VEVENT
BEGIN:VEVENT
DTSTART;TZID=America/Halifax:20181107T113000
DTEND;TZID=America/Halifax:20181107T153000
DTSTAMP:20260423T233404
CREATED:20180819T204757Z
LAST-MODIFIED:20180819T205528Z
UID:2767-1541590200-1541604600@bobbybyrne.com
SUMMARY:The Three Irish Tenors - Byrne Brothers Luncheon Cabaret - Doolans\, Sp. Lk. Hts.
DESCRIPTION:Mike Byrne All Star Productions presents \nTHE BYRNE BROTHERS \nJimmy\, Bobby\, and Mike \nIn A New Show  \nTHE THREE IRISH TENORS \nA Luncheon Cabaret Show \nPlus comedian\, dancing\, and sing-a-long.  \n($50 plus tax includes Three Course Luncheon\, Wine Hour\, and One Hour Open Bar.) \nat  \nDOOLAN’S SHORE CLUB \nSpring Lake Hts.\, NJ \n11:30am – 3:30pm  \nWednesday\, November 7 \nThursday\, November 8 \nFriday\, November 9  \nBY RESERVATION ONLY \nCall All Star Productions: 732 458-7118  \nAND AT  \nLI GRECI’S STAATEN \nStaten Island\, NY \n11:30am – 3:30pm  \nTuesday\, November 13 \nWednesday\, November 14 \nThursday\, November 15  \nBY RESERVATION ONLY \nCall All Star Productions: 732 458-7118
URL:https://bobbybyrne.com/event/the-three-irish-tenors-byrne-brothers-luncheon-cabaret-doolans-sp-lk-hts/
LOCATION:The Shore Club\, 700 State Hwy 71\, Spring Lake Heights\, NJ\, 07762\, United States
END:VEVENT
BEGIN:VEVENT
DTSTART;TZID=America/Halifax:20180822T190000
DTEND;TZID=America/Halifax:20180822T190000
DTSTAMP:20260423T233404
CREATED:20170513T190519Z
LAST-MODIFIED:20180819T204217Z
UID:2642-1534964400-1534964400@bobbybyrne.com
SUMMARY:Jenkinson's Beach\, Pt. Pleasant NJ - 7pm - Free Outdoor Concert
DESCRIPTION: JENKINSON’S BEACH\, Point Pleasant (7pm);\nFree Outdoor Concert On Beach (Bring Beach Chair);\nWeather Hotline # 732 892-0600
URL:https://bobbybyrne.com/event/jenkinsons-beach-pt-pleasant-nj-730pm-free-outdoor-concert/
LOCATION:Jenkinson’s Beach\, Point Pleasant\, NJ\, United States
END:VEVENT
BEGIN:VEVENT
DTSTART;TZID=America/Halifax:20180418T113000
DTEND;TZID=America/Halifax:20180418T153000
DTSTAMP:20260423T233404
CREATED:20180320T225251Z
LAST-MODIFIED:20180320T225251Z
UID:2744-1524051000-1524065400@bobbybyrne.com
SUMMARY:Doolan's Shore Club\, Sp. Lk. Hts. - 11:30am - Broadway Luncheon Show
DESCRIPTION:MIKE BYRNE ALL STAR PRODUCTIONS\npresents\nBOBBY BYRNE’S BROADWAY\nincluding a comedian\, dancing\, luncheon\, cocktails\, and wine.\nWednesday\, April 18\n11:30am – 3:30pm\nat Doolan’s Shore Club\, Spring Lake Hts.\, NJ\nFOR PRICES AND RESERVATIONS CALL ALL STAR PRODUCTIONS AT:\n732 458-7118\n(Do Not Call Doolan’s!)
URL:https://bobbybyrne.com/event/doolans-shore-club-sp-lk-hts-1130am-broadway-luncheon-show-2/
LOCATION:The Shore Club\, 700 State Hwy 71\, Spring Lake Heights\, NJ\, 07762\, United States
END:VEVENT
BEGIN:VEVENT
DTSTART;TZID=America/Halifax:20180417T113000
DTEND;TZID=America/Halifax:20180417T153000
DTSTAMP:20260423T233404
CREATED:20180320T225203Z
LAST-MODIFIED:20180320T225203Z
UID:2742-1523964600-1523979000@bobbybyrne.com
SUMMARY:Doolan's Shore Club\, Sp. Lk. Hts. - 11:30am - Broadway Luncheon Show
DESCRIPTION:MIKE BYRNE ALL STAR PRODUCTIONS\npresents\nBOBBY BYRNE’S BROADWAY\nincluding a comedian\, dancing\, luncheon\, cocktails\, and wine.\nTuesday\, April 17\n11:30am – 3:30pm\nat Doolan’s Shore Club\, Spring Lake Hts.\, NJ\nFOR PRICES AND RESERVATIONS CALL ALL STAR PRODUCTIONS AT:\n732 458-7118\n(Do Not Call Doolan’s!)
URL:https://bobbybyrne.com/event/doolans-shore-club-sp-lk-hts-1130am-broadway-luncheon-show/
LOCATION:The Shore Club\, 700 State Hwy 71\, Spring Lake Heights\, NJ\, 07762\, United States
END:VEVENT
BEGIN:VEVENT
DTSTART;TZID=America/Halifax:20180411T113000
DTEND;TZID=America/Halifax:20180411T153000
DTSTAMP:20260423T233404
CREATED:20180320T224205Z
LAST-MODIFIED:20180320T225630Z
UID:2729-1523446200-1523460600@bobbybyrne.com
SUMMARY:Li Greci’s STAATEN\, Staten Isl. – 11:30am – Broadway Luncheon Show
DESCRIPTION:MIKE BYRNE ALL STAR PRODUCTIONS\n presents\n BOBBY BYRNE’S BROADWAY\n including a comedian\, dancing\, luncheon\, cocktails\, and wine.\n Wednesday\, April 11\n11:30am – 3:30pm\n at Li Greci’s Staaten\, Staten Island\, NY\nFOR PRICES AND RESERVATIONS CALL ALL STAR PRODUCTIONS AT:\n 732 458-7118\n(Do Not Call Li Greci’s Staaten!)
URL:https://bobbybyrne.com/event/li-grecis-staaten-staten-isl-1130am-broadway-luncheon-show/
LOCATION:Li Greci’s STAATEN\, 697 Forest Ave\, Staten Island\, NJ\, 10310\, United States
END:VEVENT
BEGIN:VEVENT
DTSTART;TZID=America/Halifax:20180318T140000
DTEND;TZID=America/Halifax:20180318T140000
DTSTAMP:20260423T233404
CREATED:20180213T023029Z
LAST-MODIFIED:20180213T023141Z
UID:2714-1521381600-1521381600@bobbybyrne.com
SUMMARY:Irish Show - Doolan's Shore Club - 2pm
DESCRIPTION:THE BOBBY BYRNE IRISH SHOW – 2PM – DOOLAN’S SHORE CLUB\nRt. 71\, Spring Lake Hts\, NJ\n$47 per person or $52 per person  for preferred seating\nIncludes complete Sunday dinner\, dancing\, tax\, gratuity\, and lots of Irish music\n732 449-3666   \n If following the dose indicated\,(Cheap Levitra) and the instructions you will avoid this and other possible side effects that appear upon overdosing.
URL:https://bobbybyrne.com/event/irish-show-doolans-shore-club-2pm/
LOCATION:The Shore Club\, 700 State Hwy 71\, Spring Lake Heights\, NJ\, 07762\, United States
END:VEVENT
BEGIN:VEVENT
DTSTART;TZID=America/Halifax:20171217T140000
DTEND;TZID=America/Halifax:20171217T140000
DTSTAMP:20260423T233404
CREATED:20170513T191229Z
LAST-MODIFIED:20170513T191229Z
UID:2648-1513519200-1513519200@bobbybyrne.com
SUMMARY:Farewell Christmas Show at Doolan's Shore Club\, Sp. Lk. Hts. - 2pm
DESCRIPTION:DOOLAN’S SHORE CLUB\, Spring Lk Hts\, (2pm);\nTHE BOBBY BYRNE’S FAMOUS CHRISTMAS SHOW;\n$44 ($49 For Preferred Seating)\nIncludes Pasta\, Salad\, Choice of Entree\, Dessert\, Tax\, Tip\, Dancing\, Show.  Reservation To Be Paid In Advance;\nDinner/Dancing/Show\,\n732 449-3666
URL:https://bobbybyrne.com/event/farewell-christmas-show-at-doolans-shore-club-sp-lk-hts-2pm/
LOCATION:The Shore Club\, 700 State Hwy 71\, Spring Lake Heights\, NJ\, 07762\, United States
END:VEVENT
BEGIN:VEVENT
DTSTART;TZID=America/Halifax:20171112T170000
DTEND;TZID=America/Halifax:20171112T170000
DTSTAMP:20260423T233404
CREATED:20171109T030624Z
LAST-MODIFIED:20171109T030624Z
UID:2704-1510506000-1510506000@bobbybyrne.com
SUMMARY:Farewell Cabaret Show at McLoone's Supper Club\, Asbury Park - 5pm
DESCRIPTION:SUNDAY\, NOVEMBER 12 at McLOONE’S SUPPER CLUB\n(Intimate\, beautiful room; perfect for our farewell cabaret show)\nReservations A Must – 5pm Dinner and Show: $47.95\n732 774-1155
URL:https://bobbybyrne.com/event/farewell-cabaret-show-at-mcloones-supper-club-asbury-park-5pm/
LOCATION:McLoone’s Supper Club\, 1200 Ocean Ave\, Asbury Park\, NJ\, 07712\, United States
END:VEVENT
BEGIN:VEVENT
DTSTART;TZID=America/Halifax:20171008T163000
DTEND;TZID=America/Halifax:20171008T163000
DTSTAMP:20260423T233404
CREATED:20170513T190330Z
LAST-MODIFIED:20170513T190402Z
UID:2639-1507480200-1507480200@bobbybyrne.com
SUMMARY:Farewell Performance at The Norwood Inn\, Avon NJ - 4:30pm - Summer Reunion/Final Bar Gig
DESCRIPTION:THE NORWOOD INN\, Avon by the Sea\,\n“SUMMER REUNION” (4:30pm);\nThis is my FINAL BAR GIG;\n732 775-3900
URL:https://bobbybyrne.com/event/the-norwood-inn-avon-nj-430pm-summer-reunionfinal-bar-gig/
LOCATION:Norwood Inn\, 618 2nd Ave\,  Avon-By-The-Sea\, NJ\, 07717\, United States
END:VEVENT
BEGIN:VEVENT
DTSTART;VALUE=DATE:20170930
DTEND;VALUE=DATE:20171001
DTSTAMP:20260423T233404
CREATED:20170513T190554Z
LAST-MODIFIED:20170513T190554Z
UID:2644-1506729600-1506815999@bobbybyrne.com
SUMMARY:Private Party
DESCRIPTION:
URL:https://bobbybyrne.com/event/private-party-13/
LOCATION:NJ
END:VEVENT
BEGIN:VEVENT
DTSTART;VALUE=DATE:20170910
DTEND;VALUE=DATE:20170925
DTSTAMP:20260423T233404
CREATED:20170513T190743Z
LAST-MODIFIED:20170513T190743Z
UID:2646-1505001600-1506297599@bobbybyrne.com
SUMMARY:New England/Canada Cruise
DESCRIPTION:Bobby Byrne New England/Canada Cruise. Click HERE for details. 
URL:https://bobbybyrne.com/event/new-englandcanada-cruise/
LOCATION:NJ
END:VEVENT
BEGIN:VEVENT
DTSTART;TZID=America/Halifax:20170903T163000
DTEND;TZID=America/Halifax:20170903T163000
DTSTAMP:20260423T233404
CREATED:20170513T190153Z
LAST-MODIFIED:20170513T190153Z
UID:2637-1504456200-1504456200@bobbybyrne.com
SUMMARY:The Norwood Inn\, Avon NJ - 4:30pm - Labor Day Celebration
DESCRIPTION:THE NORWOOD INN\, Avon by the Sea\,\n“SUMMER SUNDAY AFTERNOONS” (4:30pm);\nSpecial Patriotic Show for Labor Day;\nPub/Dining/Show\,\n732 775-3900
URL:https://bobbybyrne.com/event/the-norwood-inn-avon-nj-430pm-labor-day-celebration/
LOCATION:Norwood Inn\, 618 2nd Ave\,  Avon-By-The-Sea\, NJ\, 07717\, United States
END:VEVENT
BEGIN:VEVENT
DTSTART;TZID=America/Halifax:20170827T163000
DTEND;TZID=America/Halifax:20170827T163000
DTSTAMP:20260423T233404
CREATED:20170513T185747Z
LAST-MODIFIED:20170513T185747Z
UID:2635-1503851400-1503851400@bobbybyrne.com
SUMMARY:The Norwood Inn\, Avon NJ - 4:30pm - Summer Sundays
DESCRIPTION:THE NORWOOD INN\, Avon by the Sea\,\n“SUMMER SUNDAY AFTERNOONS” (4:30pm);\nPub/Dining/Show\,\n732 775-3900
URL:https://bobbybyrne.com/event/the-norwood-inn-avon-nj-430pm-summer-sundays-2/
LOCATION:Norwood Inn\, 618 2nd Ave\,  Avon-By-The-Sea\, NJ\, 07717\, United States
END:VEVENT
BEGIN:VEVENT
DTSTART;TZID=America/Halifax:20170813T163000
DTEND;TZID=America/Halifax:20170813T163000
DTSTAMP:20260423T233404
CREATED:20170513T185650Z
LAST-MODIFIED:20170513T185650Z
UID:2633-1502641800-1502641800@bobbybyrne.com
SUMMARY:The Norwood Inn\, Avon NJ - 4:30pm - Summer Sundays
DESCRIPTION:THE NORWOOD INN\, Avon by the Sea\,\n“SUMMER SUNDAY AFTERNOONS” (4:30pm);\nPub/Dining/Show\,\n732 775-3900
URL:https://bobbybyrne.com/event/the-norwood-inn-avon-nj-430pm-summer-sundays/
LOCATION:Norwood Inn\, 618 2nd Ave\,  Avon-By-The-Sea\, NJ\, 07717\, United States
END:VEVENT
BEGIN:VEVENT
DTSTART;TZID=America/Halifax:20170810T193000
DTEND;TZID=America/Halifax:20170810T193000
DTSTAMP:20260423T233404
CREATED:20170513T185523Z
LAST-MODIFIED:20170513T185523Z
UID:2631-1502393400-1502393400@bobbybyrne.com
SUMMARY:Breezy Point\, NY - 7:30pm - Private Outdoor Concert
DESCRIPTION:BREEZY POINT CO-OP\, NY (7:30pm);\nOutdoor Concert on the Ballfield\n(Private\, For Residents & Guests)
URL:https://bobbybyrne.com/event/breezy-point-ny-730pm-private-outdoor-concert/
LOCATION:Breezy Point Co-Op\, NY\, United States
END:VEVENT
BEGIN:VEVENT
DTSTART;TZID=America/Halifax:20170805T193000
DTEND;TZID=America/Halifax:20170805T193000
DTSTAMP:20260423T233404
CREATED:20170513T185339Z
LAST-MODIFIED:20170513T185339Z
UID:2629-1501961400-1501961400@bobbybyrne.com
SUMMARY:Cranberry Lake Community Clubhouse - 7:30pm - Residents & Guests
DESCRIPTION: CRANBERRY LAKE COMMUNITY CLUBHOUSE\, Cranberry Lake\, NJ\,\n(7:30);\nResidents & Guests Show\n973 396-6286
URL:https://bobbybyrne.com/event/cranberry-lake-community-clubhouse-730pm-residents-guests-2/
LOCATION:Cranberry Lake Community Clubhouse\, Cranberry Lake\, NJ\, United States
END:VEVENT
BEGIN:VEVENT
DTSTART;TZID=America/Halifax:20170802T190000
DTEND;TZID=America/Halifax:20170802T190000
DTSTAMP:20260423T233404
CREATED:20170512T020857Z
LAST-MODIFIED:20170512T020857Z
UID:2602-1501700400-1501700400@bobbybyrne.com
SUMMARY:Trader's Cove Marina Park\, Brick - 7pm - Free Outdoor Concert
DESCRIPTION:TRADER’S COVE MARINA PARK\, Mantoloking Rd\, Brick (7pm);\nFree Outdoor Concert\, Sponsored By Brick Rec. Dep’t.\n(Rain Date: Aug 03)
URL:https://bobbybyrne.com/event/traders-cove-marina-park-brick-7pm-free-outdoor-concert-2/
LOCATION:Trader’s Cove Marina Park\, Mantoloking Rd\, Brick\, NJ\, United States
END:VEVENT
BEGIN:VEVENT
DTSTART;TZID=America/Halifax:20170730T163000
DTEND;TZID=America/Halifax:20170730T163000
DTSTAMP:20260423T233404
CREATED:20170512T021114Z
LAST-MODIFIED:20170512T021114Z
UID:2606-1501432200-1501432200@bobbybyrne.com
SUMMARY:The Norwood Inn\, Avon - 4:30pm - Summer Sunday Afternoons
DESCRIPTION:THE NORWOOD INN\, Avon by the Sea\, “SUMMER SUNDAY AFTERNOONS” (4:30pm); Pub/Dining/Show;\n732 775-3900
URL:https://bobbybyrne.com/event/the-norwood-inn-avon-430pm-summer-sunday-afternoons-2/
LOCATION:Norwood Inn\, 618 2nd Ave\,  Avon-By-The-Sea\, NJ\, 07717\, United States
END:VEVENT
BEGIN:VEVENT
DTSTART;TZID=America/Halifax:20170719T180000
DTEND;TZID=America/Halifax:20170719T180000
DTSTAMP:20260423T233404
CREATED:20170512T020733Z
LAST-MODIFIED:20170512T020733Z
UID:2600-1500487200-1500487200@bobbybyrne.com
SUMMARY:Belmar Fishing Club - 6pm - Members & Guests
DESCRIPTION:THE BELMAR FISHING CLUB\, Belmar (6pm);\nMembers and Guests
URL:https://bobbybyrne.com/event/belmar-fishing-club-6pm-members-guests-3/
LOCATION:Belmar Fishing Club\, Belmar\, NJ\, United States
END:VEVENT
END:VCALENDAR